BEGIN:VCALENDAR
VERSION:2.0
PRODID:-//Jill Renee Feeler - ECPv6.15.20//NONSGML v1.0//EN
CALSCALE:GREGORIAN
METHOD:PUBLISH
X-WR-CALNAME:Jill Renee Feeler
X-ORIGINAL-URL:https://jillreneefeeler.com
X-WR-CALDESC:Events for Jill Renee Feeler
REFRESH-INTERVAL;VALUE=DURATION:PT1H
X-Robots-Tag:noindex
X-PUBLISHED-TTL:PT1H
BEGIN:VTIMEZONE
TZID:America/Los_Angeles
BEGIN:DAYLIGHT
TZOFFSETFROM:-0800
TZOFFSETTO:-0700
TZNAME:PDT
DTSTART:20200308T100000
END:DAYLIGHT
BEGIN:STANDARD
TZOFFSETFROM:-0700
TZOFFSETTO:-0800
TZNAME:PST
DTSTART:20201101T090000
END:STANDARD
BEGIN:DAYLIGHT
TZOFFSETFROM:-0800
TZOFFSETTO:-0700
TZNAME:PDT
DTSTART:20210314T100000
END:DAYLIGHT
BEGIN:STANDARD
TZOFFSETFROM:-0700
TZOFFSETTO:-0800
TZNAME:PST
DTSTART:20211107T090000
END:STANDARD
BEGIN:DAYLIGHT
TZOFFSETFROM:-0800
TZOFFSETTO:-0700
TZNAME:PDT
DTSTART:20220313T100000
END:DAYLIGHT
BEGIN:STANDARD
TZOFFSETFROM:-0700
TZOFFSETTO:-0800
TZNAME:PST
DTSTART:20221106T090000
END:STANDARD
END:VTIMEZONE
BEGIN:VEVENT
DTSTART;TZID=America/Los_Angeles:20210314T110000
DTEND;TZID=America/Los_Angeles:20210314T130000
DTSTAMP:20260423T075103
CREATED:20210118T060255Z
LAST-MODIFIED:20210228T215844Z
UID:18551-1615719600-1615726800@jillreneefeeler.com
SUMMARY:JRF Subscribers March Message on Sunday March 14 at 11am Pacific/2pm Eastern/6pm London
DESCRIPTION:JRF Subscribers March Message\nA JRF subscriber event\, part of our exclusive content ~ welcome to all who are called to more deeply support and be the Christ Consciousness we are in this world. \nWhen: Sunday March 14 at 11am Pacific/2pm Eastern/6pm London \nnote for live event: the US changes our clocks for Daylight Saving Time on March 14 – if you are in an area\, like London\, that doesn’t yet change your clocks for DST\, please use a time zone converter from the above stated times. \nHow: Live by Zoom with video\, option for phone with localized number. Replay will be available\, in video and in audio formats. \nCall access and Replay here.
URL:https://jillreneefeeler.com/event/march2021/
CATEGORIES:Premium Member Event
ATTACH;FMTTYPE=image/png:https://jillreneefeeler.com/wp-content/uploads/March-2021-Message-Jill-Renee-Feeler.png
ORGANIZER;CN="Jill Renee Feeler":MAILTO:admin@jillreneefeeler.com
END:VEVENT
BEGIN:VEVENT
DTSTART;TZID=America/Los_Angeles:20210307T080000
DTEND;TZID=America/Los_Angeles:20210307T093000
DTSTAMP:20260423T075103
CREATED:20210228T222050Z
LAST-MODIFIED:20210228T222848Z
UID:21955-1615104000-1615109400@jillreneefeeler.com
SUMMARY:Jill's Show Sunday 7 March 8am Pacific/11am Eastern/16:00 London
DESCRIPTION:Jill’s Show | Mini Readings and Messages\nInspiration\, insights and expansion in lighthearted\, approachable spiritual event based on Jill’s world renowned readings\, messages and connection.\nMini-readings are fun\, profound\, touching\, life-changing\, calming\, clarifying and also validating. This is regularly true for everyone from fellow spiritual practitioners all the way to those completely new to even the notion of “readings” or “expansion of consciousness.”  \nSecure your spot here \nA unique experience of Jill’s world renowned readings\, messages and connection to the other side. A handful of audience members will receive a mini-reading or have their question answered. A truly inspirational group experience with psychic intuitive\, channel and medium Jill Renee Feeler. All participants receive great benefit and personal fulfillment. Price includes event recording\, sent after event by email. Max participants is 50. Zoom access is necessary for each participant. \nReview of Jill’s Show \n“Beautiful\, heart opening\, like a group reading for us all.I didn’t know what to expect from the show\, I am a premium subscriber so get Jill and her team giving regular wisdoms and insights. This is much more of a conversation as you can see and hear others asking about what they want insight into . Jill did mini readings for a number of people and it was amazing how it built into a container for us all. Each reading seemed to add more insight and expansion and by the end I felt like I had received so much without needing to ask a question or receive a personal reading. It felt like we all received a group reading\, wisdoms that simply help us to be more of who we are\, to come more fully into being. It was a joy to watch each questioner light up and relax visibly as they received their responses from the teams. So many beautiful souls\, I felt my heart opening more and more as the call progressed\, allowing more acceptance and relaxation. Thanks Jill\, for your love\, lightness and humour \, and everyone who asked a question.“Frances bUnited Kingdom \nSecure your spot here
URL:https://jillreneefeeler.com/event/jillsshowmarch7/
CATEGORIES:Open to Public
ATTACH;FMTTYPE=image/png:https://jillreneefeeler.com/wp-content/uploads/sq-no-link-no-date-Jills-show-readings-inspiration-online-spiritual-events-jill-renee-feeler-jrf.png
ORGANIZER;CN="Jill Renee Feeler":MAILTO:admin@jillreneefeeler.com
END:VEVENT
BEGIN:VEVENT
DTSTART;TZID=America/Los_Angeles:20210302T110000
DTEND;TZID=America/Los_Angeles:20210302T130000
DTSTAMP:20260423T075103
CREATED:20210301T000735Z
LAST-MODIFIED:20210301T000735Z
UID:21961-1614682800-1614690000@jillreneefeeler.com
SUMMARY:Practitioner's Group Coaching Session for JRF Subscribers on Tue March 2 at 11am Pacific/2pm Eastern/19:00 London
DESCRIPTION:Group Coaching for Practitioners Tue March 2 at 11am Pacific/2pm Eastern/19:00 London\nSupport and Unique Strategies for our Fellow Practitioners in their light work\, supporting the best in themselves and others in this often strange world. Includes dedicated messages and insights for wellness and energy practitioners from Jill and the team as well as discussion with subscribers who attend live. \nAnnual and monthly subscription options are available\, offering tremendous value relative to premium content and experiences offered. Options from $9.99 USD to $144 USD.
URL:https://jillreneefeeler.com/event/practitionercoaching2march/
CATEGORIES:Premium Member Event
ATTACH;FMTTYPE=image/png:https://jillreneefeeler.com/wp-content/uploads/Practitioners-Group-Coaching-Session-8-Jill-Renee-Feeler.png
ORGANIZER;CN="Jill Renee Feeler":MAILTO:admin@jillreneefeeler.com
END:VEVENT
BEGIN:VEVENT
DTSTART;TZID=America/Los_Angeles:20210302T110000
DTEND;TZID=America/Los_Angeles:20210302T130000
DTSTAMP:20260423T075103
CREATED:20210118T052239Z
LAST-MODIFIED:20210228T215955Z
UID:18543-1614682800-1614690000@jillreneefeeler.com
SUMMARY:Practitioner's Group Coaching Session for JRF Subscribers on Tue March 2 at 11am Pacific/2pm Eastern/7pm London
DESCRIPTION:Practitioner’s Group Coaching Session\nA JRF subscriber event\, part of our exclusive content ~ Support\, Tools and Unique Strategies for our Fellow Practitioners\, whether they be official or unofficial in their light work\, supporting the best in themselves and others in this often strange world. \nHave a business-related topic or challenging practitioner situation you are facing? \nWhen: Tue March 2 at 11am Pacific/2pm Eastern/7pm London \nHow: Live by Zoom with video\, option for phone with localized number. Replay will be available\, in video and in audio formats. \nCall access and Replay here.
URL:https://jillreneefeeler.com/event/practitionerscoaching8/
CATEGORIES:Premium Member Event
ATTACH;FMTTYPE=image/png:https://jillreneefeeler.com/wp-content/uploads/Practitioners-Group-Coaching-Session-8-Jill-Renee-Feeler.png
ORGANIZER;CN="Jill Renee Feeler":MAILTO:admin@jillreneefeeler.com
END:VEVENT
BEGIN:VEVENT
DTSTART;TZID=America/Los_Angeles:20210227T080000
DTEND;TZID=America/Los_Angeles:20210227T100000
DTSTAMP:20260423T075103
CREATED:20210118T040237Z
LAST-MODIFIED:20210228T220024Z
UID:18514-1614412800-1614420000@jillreneefeeler.com
SUMMARY:Q and A with Jill for JRF Subscribers on Sat Feb 27 at 8am Pacific/11am Eastern/4pm London
DESCRIPTION:Q&A Call with Jill\nA JRF subscriber event\, part of our exclusive content ~ welcome to all who are called to more deeply support and be the Christ Consciousness we are in this world. \nWhen: Sat Feb 27 at 8am Pacific/11am Eastern/4pm London \nHow: Live by Zoom with video\, option for phone with localized number. Replay will be available\, in video and in audio formats. \nCall access and Replay here.
URL:https://jillreneefeeler.com/event/q-and-a-with-jill-for-jrf-subscribers-on-sat-feb-27-at-8am-pacific-11am-eastern-4pm-london/
CATEGORIES:Premium Member Event
ATTACH;FMTTYPE=image/png:https://jillreneefeeler.com/wp-content/uploads/QA-21-JRF-Jill-Renee-Feeler.png
ORGANIZER;CN="Jill Renee Feeler":MAILTO:admin@jillreneefeeler.com
END:VEVENT
END:VCALENDAR