BEGIN:VCALENDAR
VERSION:2.0
PRODID:-//Jill Renee Feeler - ECPv6.15.20//NONSGML v1.0//EN
CALSCALE:GREGORIAN
METHOD:PUBLISH
X-ORIGINAL-URL:https://jillreneefeeler.com
X-WR-CALDESC:Events for Jill Renee Feeler
REFRESH-INTERVAL;VALUE=DURATION:PT1H
X-Robots-Tag:noindex
X-PUBLISHED-TTL:PT1H
BEGIN:VTIMEZONE
TZID:America/Los_Angeles
BEGIN:DAYLIGHT
TZOFFSETFROM:-0800
TZOFFSETTO:-0700
TZNAME:PDT
DTSTART:20250309T100000
END:DAYLIGHT
BEGIN:STANDARD
TZOFFSETFROM:-0700
TZOFFSETTO:-0800
TZNAME:PST
DTSTART:20251102T090000
END:STANDARD
BEGIN:DAYLIGHT
TZOFFSETFROM:-0800
TZOFFSETTO:-0700
TZNAME:PDT
DTSTART:20260308T100000
END:DAYLIGHT
BEGIN:STANDARD
TZOFFSETFROM:-0700
TZOFFSETTO:-0800
TZNAME:PST
DTSTART:20261101T090000
END:STANDARD
BEGIN:DAYLIGHT
TZOFFSETFROM:-0800
TZOFFSETTO:-0700
TZNAME:PDT
DTSTART:20270314T100000
END:DAYLIGHT
BEGIN:STANDARD
TZOFFSETFROM:-0700
TZOFFSETTO:-0800
TZNAME:PST
DTSTART:20271107T090000
END:STANDARD
BEGIN:DAYLIGHT
TZOFFSETFROM:-0800
TZOFFSETTO:-0700
TZNAME:PDT
DTSTART:20280312T100000
END:DAYLIGHT
BEGIN:STANDARD
TZOFFSETFROM:-0700
TZOFFSETTO:-0800
TZNAME:PST
DTSTART:20281105T090000
END:STANDARD
END:VTIMEZONE
BEGIN:VEVENT
DTSTART;TZID=America/Los_Angeles:20260503T090000
DTEND;TZID=America/Los_Angeles:20260503T100000
DTSTAMP:20260421T053508
CREATED:20251215T033454Z
LAST-MODIFIED:20251215T033454Z
UID:37166-1777798800-1777802400@jillreneefeeler.com
SUMMARY:Inspired Message for Month
DESCRIPTION:Inspired Messages for Month\nJill’s gift for sharing inspiring messages straight from the Source Energy (the Holy Spirit) have been offering connection\, clarity and direction for people around the world since 2009. \nMessages are shared once a month with our premium members\, typically the first Sunday of each month at 9am Pacific/12pm Eastern/5pm London time. \nThe messages are not prepared in advanced\, instead shared improvisationally\, led by Source energy\, which Jill often calls her “team”. \nThis is the event calendar notice. Proceed to individual event details here for live access details. Recordings are made for each live event.
URL:https://jillreneefeeler.com/event/inspired-message-for-month-3/2026-05-03/
ATTACH;FMTTYPE=image/jpeg:https://jillreneefeeler.com/wp-content/uploads/Monthly-Inspired-Messages-for-Calendar-Events-in-Website-Jill-Renee-Feeler-300-×-300-px-1080-x-608-px.jpg
ORGANIZER;CN="Jill Renee Feeler":MAILTO:admin@jillreneefeeler.com
END:VEVENT
BEGIN:VEVENT
DTSTART;TZID=America/Los_Angeles:20260517T090000
DTEND;TZID=America/Los_Angeles:20260517T103000
DTSTAMP:20260421T053508
CREATED:20251215T031508Z
LAST-MODIFIED:20260410T014753Z
UID:37176-1779008400-1779013800@jillreneefeeler.com
SUMMARY:Online Open House
DESCRIPTION:Online Open House\nAn opportunity to check in\, share\, and touch bases with Jill and with each other in this uniquely supportive online community. Topics are member’s led by those who choose to join live. Premium members support each other in being our light at the widest\, purest range possible\, amidst the world acting unpredictably and even chaotically. \nOnline Open Houses are offered for our premium members\, typically the third Sunday of each month at 9am Pacific/12pm Eastern/5pm London time. \nThis is the event calendar notice. Proceed to individual event details here for live access details. Recordings are made for each live event.
URL:https://jillreneefeeler.com/event/online-open-house-3-2026-03-15-2026-05-17/2026-05-17/
ATTACH;FMTTYPE=image/jpeg:https://jillreneefeeler.com/wp-content/uploads/Monthly-Online-Open-House-for-Calendar-Events-in-Website-Jill-Renee-Feeler-300-×-300-px-1080-x-608-px.jpg
ORGANIZER;CN="Jill Renee Feeler":MAILTO:admin@jillreneefeeler.com
END:VEVENT
BEGIN:VEVENT
DTSTART;TZID=America/Los_Angeles:20260607T090000
DTEND;TZID=America/Los_Angeles:20260607T100000
DTSTAMP:20260421T053508
CREATED:20251215T033454Z
LAST-MODIFIED:20251215T033454Z
UID:37167-1780822800-1780826400@jillreneefeeler.com
SUMMARY:Inspired Message for Month
DESCRIPTION:Inspired Messages for Month\nJill’s gift for sharing inspiring messages straight from the Source Energy (the Holy Spirit) have been offering connection\, clarity and direction for people around the world since 2009. \nMessages are shared once a month with our premium members\, typically the first Sunday of each month at 9am Pacific/12pm Eastern/5pm London time. \nThe messages are not prepared in advanced\, instead shared improvisationally\, led by Source energy\, which Jill often calls her “team”. \nThis is the event calendar notice. Proceed to individual event details here for live access details. Recordings are made for each live event.
URL:https://jillreneefeeler.com/event/inspired-message-for-month-3/2026-06-07/
ATTACH;FMTTYPE=image/jpeg:https://jillreneefeeler.com/wp-content/uploads/Monthly-Inspired-Messages-for-Calendar-Events-in-Website-Jill-Renee-Feeler-300-×-300-px-1080-x-608-px.jpg
ORGANIZER;CN="Jill Renee Feeler":MAILTO:admin@jillreneefeeler.com
END:VEVENT
BEGIN:VEVENT
DTSTART;TZID=America/Los_Angeles:20260621T090000
DTEND;TZID=America/Los_Angeles:20260621T103000
DTSTAMP:20260421T053508
CREATED:20251215T031508Z
LAST-MODIFIED:20260410T014753Z
UID:37177-1782032400-1782037800@jillreneefeeler.com
SUMMARY:Online Open House
DESCRIPTION:Online Open House\nAn opportunity to check in\, share\, and touch bases with Jill and with each other in this uniquely supportive online community. Topics are member’s led by those who choose to join live. Premium members support each other in being our light at the widest\, purest range possible\, amidst the world acting unpredictably and even chaotically. \nOnline Open Houses are offered for our premium members\, typically the third Sunday of each month at 9am Pacific/12pm Eastern/5pm London time. \nThis is the event calendar notice. Proceed to individual event details here for live access details. Recordings are made for each live event.
URL:https://jillreneefeeler.com/event/online-open-house-3-2026-03-15-2026-05-17/2026-06-21/
ATTACH;FMTTYPE=image/jpeg:https://jillreneefeeler.com/wp-content/uploads/Monthly-Online-Open-House-for-Calendar-Events-in-Website-Jill-Renee-Feeler-300-×-300-px-1080-x-608-px.jpg
ORGANIZER;CN="Jill Renee Feeler":MAILTO:admin@jillreneefeeler.com
END:VEVENT
BEGIN:VEVENT
DTSTART;TZID=America/Los_Angeles:20260705T090000
DTEND;TZID=America/Los_Angeles:20260705T100000
DTSTAMP:20260421T053508
CREATED:20251215T033454Z
LAST-MODIFIED:20251215T033454Z
UID:37168-1783242000-1783245600@jillreneefeeler.com
SUMMARY:Inspired Message for Month
DESCRIPTION:Inspired Messages for Month\nJill’s gift for sharing inspiring messages straight from the Source Energy (the Holy Spirit) have been offering connection\, clarity and direction for people around the world since 2009. \nMessages are shared once a month with our premium members\, typically the first Sunday of each month at 9am Pacific/12pm Eastern/5pm London time. \nThe messages are not prepared in advanced\, instead shared improvisationally\, led by Source energy\, which Jill often calls her “team”. \nThis is the event calendar notice. Proceed to individual event details here for live access details. Recordings are made for each live event.
URL:https://jillreneefeeler.com/event/inspired-message-for-month-3/2026-07-05/
ATTACH;FMTTYPE=image/jpeg:https://jillreneefeeler.com/wp-content/uploads/Monthly-Inspired-Messages-for-Calendar-Events-in-Website-Jill-Renee-Feeler-300-×-300-px-1080-x-608-px.jpg
ORGANIZER;CN="Jill Renee Feeler":MAILTO:admin@jillreneefeeler.com
END:VEVENT
BEGIN:VEVENT
DTSTART;TZID=America/Los_Angeles:20260719T090000
DTEND;TZID=America/Los_Angeles:20260719T103000
DTSTAMP:20260421T053508
CREATED:20251215T031508Z
LAST-MODIFIED:20260410T014753Z
UID:37178-1784451600-1784457000@jillreneefeeler.com
SUMMARY:Online Open House
DESCRIPTION:Online Open House\nAn opportunity to check in\, share\, and touch bases with Jill and with each other in this uniquely supportive online community. Topics are member’s led by those who choose to join live. Premium members support each other in being our light at the widest\, purest range possible\, amidst the world acting unpredictably and even chaotically. \nOnline Open Houses are offered for our premium members\, typically the third Sunday of each month at 9am Pacific/12pm Eastern/5pm London time. \nThis is the event calendar notice. Proceed to individual event details here for live access details. Recordings are made for each live event.
URL:https://jillreneefeeler.com/event/online-open-house-3-2026-03-15-2026-05-17/2026-07-19/
ATTACH;FMTTYPE=image/jpeg:https://jillreneefeeler.com/wp-content/uploads/Monthly-Online-Open-House-for-Calendar-Events-in-Website-Jill-Renee-Feeler-300-×-300-px-1080-x-608-px.jpg
ORGANIZER;CN="Jill Renee Feeler":MAILTO:admin@jillreneefeeler.com
END:VEVENT
BEGIN:VEVENT
DTSTART;TZID=America/Los_Angeles:20260802T090000
DTEND;TZID=America/Los_Angeles:20260802T100000
DTSTAMP:20260421T053508
CREATED:20251215T033454Z
LAST-MODIFIED:20251215T033454Z
UID:37169-1785661200-1785664800@jillreneefeeler.com
SUMMARY:Inspired Message for Month
DESCRIPTION:Inspired Messages for Month\nJill’s gift for sharing inspiring messages straight from the Source Energy (the Holy Spirit) have been offering connection\, clarity and direction for people around the world since 2009. \nMessages are shared once a month with our premium members\, typically the first Sunday of each month at 9am Pacific/12pm Eastern/5pm London time. \nThe messages are not prepared in advanced\, instead shared improvisationally\, led by Source energy\, which Jill often calls her “team”. \nThis is the event calendar notice. Proceed to individual event details here for live access details. Recordings are made for each live event.
URL:https://jillreneefeeler.com/event/inspired-message-for-month-3/2026-08-02/
ATTACH;FMTTYPE=image/jpeg:https://jillreneefeeler.com/wp-content/uploads/Monthly-Inspired-Messages-for-Calendar-Events-in-Website-Jill-Renee-Feeler-300-×-300-px-1080-x-608-px.jpg
ORGANIZER;CN="Jill Renee Feeler":MAILTO:admin@jillreneefeeler.com
END:VEVENT
BEGIN:VEVENT
DTSTART;TZID=America/Los_Angeles:20260816T090000
DTEND;TZID=America/Los_Angeles:20260816T103000
DTSTAMP:20260421T053508
CREATED:20251215T031508Z
LAST-MODIFIED:20260410T014753Z
UID:37179-1786870800-1786876200@jillreneefeeler.com
SUMMARY:Online Open House
DESCRIPTION:Online Open House\nAn opportunity to check in\, share\, and touch bases with Jill and with each other in this uniquely supportive online community. Topics are member’s led by those who choose to join live. Premium members support each other in being our light at the widest\, purest range possible\, amidst the world acting unpredictably and even chaotically. \nOnline Open Houses are offered for our premium members\, typically the third Sunday of each month at 9am Pacific/12pm Eastern/5pm London time. \nThis is the event calendar notice. Proceed to individual event details here for live access details. Recordings are made for each live event.
URL:https://jillreneefeeler.com/event/online-open-house-3-2026-03-15-2026-05-17/2026-08-16/
ATTACH;FMTTYPE=image/jpeg:https://jillreneefeeler.com/wp-content/uploads/Monthly-Online-Open-House-for-Calendar-Events-in-Website-Jill-Renee-Feeler-300-×-300-px-1080-x-608-px.jpg
ORGANIZER;CN="Jill Renee Feeler":MAILTO:admin@jillreneefeeler.com
END:VEVENT
BEGIN:VEVENT
DTSTART;TZID=America/Los_Angeles:20260906T090000
DTEND;TZID=America/Los_Angeles:20260906T100000
DTSTAMP:20260421T053508
CREATED:20251215T033454Z
LAST-MODIFIED:20251215T033454Z
UID:37170-1788685200-1788688800@jillreneefeeler.com
SUMMARY:Inspired Message for Month
DESCRIPTION:Inspired Messages for Month\nJill’s gift for sharing inspiring messages straight from the Source Energy (the Holy Spirit) have been offering connection\, clarity and direction for people around the world since 2009. \nMessages are shared once a month with our premium members\, typically the first Sunday of each month at 9am Pacific/12pm Eastern/5pm London time. \nThe messages are not prepared in advanced\, instead shared improvisationally\, led by Source energy\, which Jill often calls her “team”. \nThis is the event calendar notice. Proceed to individual event details here for live access details. Recordings are made for each live event.
URL:https://jillreneefeeler.com/event/inspired-message-for-month-3/2026-09-06/
ATTACH;FMTTYPE=image/jpeg:https://jillreneefeeler.com/wp-content/uploads/Monthly-Inspired-Messages-for-Calendar-Events-in-Website-Jill-Renee-Feeler-300-×-300-px-1080-x-608-px.jpg
ORGANIZER;CN="Jill Renee Feeler":MAILTO:admin@jillreneefeeler.com
END:VEVENT
BEGIN:VEVENT
DTSTART;TZID=America/Los_Angeles:20260920T090000
DTEND;TZID=America/Los_Angeles:20260920T103000
DTSTAMP:20260421T053508
CREATED:20251215T031508Z
LAST-MODIFIED:20260410T014753Z
UID:37180-1789894800-1789900200@jillreneefeeler.com
SUMMARY:Online Open House
DESCRIPTION:Online Open House\nAn opportunity to check in\, share\, and touch bases with Jill and with each other in this uniquely supportive online community. Topics are member’s led by those who choose to join live. Premium members support each other in being our light at the widest\, purest range possible\, amidst the world acting unpredictably and even chaotically. \nOnline Open Houses are offered for our premium members\, typically the third Sunday of each month at 9am Pacific/12pm Eastern/5pm London time. \nThis is the event calendar notice. Proceed to individual event details here for live access details. Recordings are made for each live event.
URL:https://jillreneefeeler.com/event/online-open-house-3-2026-03-15-2026-05-17/2026-09-20/
ATTACH;FMTTYPE=image/jpeg:https://jillreneefeeler.com/wp-content/uploads/Monthly-Online-Open-House-for-Calendar-Events-in-Website-Jill-Renee-Feeler-300-×-300-px-1080-x-608-px.jpg
ORGANIZER;CN="Jill Renee Feeler":MAILTO:admin@jillreneefeeler.com
END:VEVENT
BEGIN:VEVENT
DTSTART;TZID=America/Los_Angeles:20261004T090000
DTEND;TZID=America/Los_Angeles:20261004T100000
DTSTAMP:20260421T053508
CREATED:20251215T033454Z
LAST-MODIFIED:20251215T033454Z
UID:37171-1791104400-1791108000@jillreneefeeler.com
SUMMARY:Inspired Message for Month
DESCRIPTION:Inspired Messages for Month\nJill’s gift for sharing inspiring messages straight from the Source Energy (the Holy Spirit) have been offering connection\, clarity and direction for people around the world since 2009. \nMessages are shared once a month with our premium members\, typically the first Sunday of each month at 9am Pacific/12pm Eastern/5pm London time. \nThe messages are not prepared in advanced\, instead shared improvisationally\, led by Source energy\, which Jill often calls her “team”. \nThis is the event calendar notice. Proceed to individual event details here for live access details. Recordings are made for each live event.
URL:https://jillreneefeeler.com/event/inspired-message-for-month-3/2026-10-04/
ATTACH;FMTTYPE=image/jpeg:https://jillreneefeeler.com/wp-content/uploads/Monthly-Inspired-Messages-for-Calendar-Events-in-Website-Jill-Renee-Feeler-300-×-300-px-1080-x-608-px.jpg
ORGANIZER;CN="Jill Renee Feeler":MAILTO:admin@jillreneefeeler.com
END:VEVENT
BEGIN:VEVENT
DTSTART;TZID=America/Los_Angeles:20261018T090000
DTEND;TZID=America/Los_Angeles:20261018T103000
DTSTAMP:20260421T053508
CREATED:20251215T031508Z
LAST-MODIFIED:20260410T014753Z
UID:37181-1792314000-1792319400@jillreneefeeler.com
SUMMARY:Online Open House
DESCRIPTION:Online Open House\nAn opportunity to check in\, share\, and touch bases with Jill and with each other in this uniquely supportive online community. Topics are member’s led by those who choose to join live. Premium members support each other in being our light at the widest\, purest range possible\, amidst the world acting unpredictably and even chaotically. \nOnline Open Houses are offered for our premium members\, typically the third Sunday of each month at 9am Pacific/12pm Eastern/5pm London time. \nThis is the event calendar notice. Proceed to individual event details here for live access details. Recordings are made for each live event.
URL:https://jillreneefeeler.com/event/online-open-house-3-2026-03-15-2026-05-17/2026-10-18/
ATTACH;FMTTYPE=image/jpeg:https://jillreneefeeler.com/wp-content/uploads/Monthly-Online-Open-House-for-Calendar-Events-in-Website-Jill-Renee-Feeler-300-×-300-px-1080-x-608-px.jpg
ORGANIZER;CN="Jill Renee Feeler":MAILTO:admin@jillreneefeeler.com
END:VEVENT
BEGIN:VEVENT
DTSTART;TZID=America/Los_Angeles:20261101T090000
DTEND;TZID=America/Los_Angeles:20261101T100000
DTSTAMP:20260421T053508
CREATED:20251215T033454Z
LAST-MODIFIED:20251215T033454Z
UID:37172-1793523600-1793527200@jillreneefeeler.com
SUMMARY:Inspired Message for Month
DESCRIPTION:Inspired Messages for Month\nJill’s gift for sharing inspiring messages straight from the Source Energy (the Holy Spirit) have been offering connection\, clarity and direction for people around the world since 2009. \nMessages are shared once a month with our premium members\, typically the first Sunday of each month at 9am Pacific/12pm Eastern/5pm London time. \nThe messages are not prepared in advanced\, instead shared improvisationally\, led by Source energy\, which Jill often calls her “team”. \nThis is the event calendar notice. Proceed to individual event details here for live access details. Recordings are made for each live event.
URL:https://jillreneefeeler.com/event/inspired-message-for-month-3/2026-11-01/
ATTACH;FMTTYPE=image/jpeg:https://jillreneefeeler.com/wp-content/uploads/Monthly-Inspired-Messages-for-Calendar-Events-in-Website-Jill-Renee-Feeler-300-×-300-px-1080-x-608-px.jpg
ORGANIZER;CN="Jill Renee Feeler":MAILTO:admin@jillreneefeeler.com
END:VEVENT
BEGIN:VEVENT
DTSTART;TZID=America/Los_Angeles:20261115T090000
DTEND;TZID=America/Los_Angeles:20261115T103000
DTSTAMP:20260421T053508
CREATED:20251215T031508Z
LAST-MODIFIED:20260410T014753Z
UID:37182-1794733200-1794738600@jillreneefeeler.com
SUMMARY:Online Open House
DESCRIPTION:Online Open House\nAn opportunity to check in\, share\, and touch bases with Jill and with each other in this uniquely supportive online community. Topics are member’s led by those who choose to join live. Premium members support each other in being our light at the widest\, purest range possible\, amidst the world acting unpredictably and even chaotically. \nOnline Open Houses are offered for our premium members\, typically the third Sunday of each month at 9am Pacific/12pm Eastern/5pm London time. \nThis is the event calendar notice. Proceed to individual event details here for live access details. Recordings are made for each live event.
URL:https://jillreneefeeler.com/event/online-open-house-3-2026-03-15-2026-05-17/2026-11-15/
ATTACH;FMTTYPE=image/jpeg:https://jillreneefeeler.com/wp-content/uploads/Monthly-Online-Open-House-for-Calendar-Events-in-Website-Jill-Renee-Feeler-300-×-300-px-1080-x-608-px.jpg
ORGANIZER;CN="Jill Renee Feeler":MAILTO:admin@jillreneefeeler.com
END:VEVENT
BEGIN:VEVENT
DTSTART;TZID=America/Los_Angeles:20261206T090000
DTEND;TZID=America/Los_Angeles:20261206T100000
DTSTAMP:20260421T053508
CREATED:20251215T033454Z
LAST-MODIFIED:20251215T033454Z
UID:37173-1796547600-1796551200@jillreneefeeler.com
SUMMARY:Inspired Message for Month
DESCRIPTION:Inspired Messages for Month\nJill’s gift for sharing inspiring messages straight from the Source Energy (the Holy Spirit) have been offering connection\, clarity and direction for people around the world since 2009. \nMessages are shared once a month with our premium members\, typically the first Sunday of each month at 9am Pacific/12pm Eastern/5pm London time. \nThe messages are not prepared in advanced\, instead shared improvisationally\, led by Source energy\, which Jill often calls her “team”. \nThis is the event calendar notice. Proceed to individual event details here for live access details. Recordings are made for each live event.
URL:https://jillreneefeeler.com/event/inspired-message-for-month-3/2026-12-06/
ATTACH;FMTTYPE=image/jpeg:https://jillreneefeeler.com/wp-content/uploads/Monthly-Inspired-Messages-for-Calendar-Events-in-Website-Jill-Renee-Feeler-300-×-300-px-1080-x-608-px.jpg
ORGANIZER;CN="Jill Renee Feeler":MAILTO:admin@jillreneefeeler.com
END:VEVENT
BEGIN:VEVENT
DTSTART;TZID=America/Los_Angeles:20261220T090000
DTEND;TZID=America/Los_Angeles:20261220T103000
DTSTAMP:20260421T053508
CREATED:20251215T031508Z
LAST-MODIFIED:20260410T014753Z
UID:37183-1797757200-1797762600@jillreneefeeler.com
SUMMARY:Online Open House
DESCRIPTION:Online Open House\nAn opportunity to check in\, share\, and touch bases with Jill and with each other in this uniquely supportive online community. Topics are member’s led by those who choose to join live. Premium members support each other in being our light at the widest\, purest range possible\, amidst the world acting unpredictably and even chaotically. \nOnline Open Houses are offered for our premium members\, typically the third Sunday of each month at 9am Pacific/12pm Eastern/5pm London time. \nThis is the event calendar notice. Proceed to individual event details here for live access details. Recordings are made for each live event.
URL:https://jillreneefeeler.com/event/online-open-house-3-2026-03-15-2026-05-17/2026-12-20/
ATTACH;FMTTYPE=image/jpeg:https://jillreneefeeler.com/wp-content/uploads/Monthly-Online-Open-House-for-Calendar-Events-in-Website-Jill-Renee-Feeler-300-×-300-px-1080-x-608-px.jpg
ORGANIZER;CN="Jill Renee Feeler":MAILTO:admin@jillreneefeeler.com
END:VEVENT
BEGIN:VEVENT
DTSTART;TZID=America/Los_Angeles:20270103T090000
DTEND;TZID=America/Los_Angeles:20270103T100000
DTSTAMP:20260421T053508
CREATED:20251215T033454Z
LAST-MODIFIED:20251215T033454Z
UID:37174-1798966800-1798970400@jillreneefeeler.com
SUMMARY:Inspired Message for Month
DESCRIPTION:Inspired Messages for Month\nJill’s gift for sharing inspiring messages straight from the Source Energy (the Holy Spirit) have been offering connection\, clarity and direction for people around the world since 2009. \nMessages are shared once a month with our premium members\, typically the first Sunday of each month at 9am Pacific/12pm Eastern/5pm London time. \nThe messages are not prepared in advanced\, instead shared improvisationally\, led by Source energy\, which Jill often calls her “team”. \nThis is the event calendar notice. Proceed to individual event details here for live access details. Recordings are made for each live event.
URL:https://jillreneefeeler.com/event/inspired-message-for-month-3/2027-01-03/
ATTACH;FMTTYPE=image/jpeg:https://jillreneefeeler.com/wp-content/uploads/Monthly-Inspired-Messages-for-Calendar-Events-in-Website-Jill-Renee-Feeler-300-×-300-px-1080-x-608-px.jpg
ORGANIZER;CN="Jill Renee Feeler":MAILTO:admin@jillreneefeeler.com
END:VEVENT
BEGIN:VEVENT
DTSTART;TZID=America/Los_Angeles:20270117T090000
DTEND;TZID=America/Los_Angeles:20270117T103000
DTSTAMP:20260421T053508
CREATED:20251215T031508Z
LAST-MODIFIED:20260410T014753Z
UID:37184-1800176400-1800181800@jillreneefeeler.com
SUMMARY:Online Open House
DESCRIPTION:Online Open House\nAn opportunity to check in\, share\, and touch bases with Jill and with each other in this uniquely supportive online community. Topics are member’s led by those who choose to join live. Premium members support each other in being our light at the widest\, purest range possible\, amidst the world acting unpredictably and even chaotically. \nOnline Open Houses are offered for our premium members\, typically the third Sunday of each month at 9am Pacific/12pm Eastern/5pm London time. \nThis is the event calendar notice. Proceed to individual event details here for live access details. Recordings are made for each live event.
URL:https://jillreneefeeler.com/event/online-open-house-3-2026-03-15-2026-05-17/2027-01-17/
ATTACH;FMTTYPE=image/jpeg:https://jillreneefeeler.com/wp-content/uploads/Monthly-Online-Open-House-for-Calendar-Events-in-Website-Jill-Renee-Feeler-300-×-300-px-1080-x-608-px.jpg
ORGANIZER;CN="Jill Renee Feeler":MAILTO:admin@jillreneefeeler.com
END:VEVENT
END:VCALENDAR